BEGIN:VCALENDAR
VERSION:2.0
PRODID:-//ChamberMaster//Event Calendar 2.0//EN
METHOD:PUBLISH
X-PUBLISHED-TTL:P3D
REFRESH-INTERVAL:P3D
CALSCALE:GREGORIAN
BEGIN:VEVENT
DTSTART:20210515T150000Z
DTEND:20210515T220000Z
X-MICROSOFT-CDO-ALLDAYEVENT:FALSE
SUMMARY:Native Plant & Organic Local Produce Sale
DESCRIPTION:First Annual Native Maryland Plants and Local Organic Produce Sale at beautiful Beaver Creek Cottage Garden. Enjoy free samples of such local delicacies as Rose Jam and the sights and sounds of spring in the garden\, wetland and forest trails at Beaver Creek Cottage Garden. Be on the lookout for the resident beavers and otters in the creek and bird life in the diverse habitat in and around the garden.
X-ALT-DESC;FMTTYPE=text/html:First Annual Native Maryland Plants and Local Organic Produce Sale at beautiful Beaver Creek Cottage Garden. Enjoy free samples of such local delicacies as Rose Jam and the sights and sounds of spring in the garden\, wetland and forest trails at Beaver Creek Cottage Garden. Be on the lookout for the resident beavers and otters in the creek and bird life in the diverse habitat in and around the garden.
LOCATION:Beaver Creek Cottage Garden 8117 Beverly Road Severn\, MD 21144
UID:e.2745.3526
SEQUENCE:3
DTSTAMP:20260423T012830Z
URL:https://dev.annearundelchamber.org/events/details/native-plant-organic-local-produce-sale-3526
END:VEVENT

END:VCALENDAR
