BEGIN:VCALENDAR
VERSION:2.0
PRODID:-//ChamberMaster//Event Calendar 2.0//EN
METHOD:PUBLISH
X-PUBLISHED-TTL:P3D
REFRESH-INTERVAL:P3D
CALSCALE:GREGORIAN
BEGIN:VEVENT
DTSTART:20191003T113000Z
DTEND:20191003T124500Z
X-MICROSOFT-CDO-ALLDAYEVENT:FALSE
SUMMARY:Networking Breakfast: Financial Health & Your Bottom Line
DESCRIPTION:Please join our exclusive gathering of like-minded employers and well-being experts for this interactive and informative workforce health seminar. Our goal is to help you form a holistic strategy to support your employees' financial well-being. At this workshop\, you will:\n\n   Gain insight into your employees' financial health and your role in supporting them.\n\n   Review current best practices in the industry for supporting financial health.\n\n   Examine the benefits of a targeted approach toward addressing employees' needs\, priorities\, and beliefs.\n\n  Learn to leverage resources to support financial well-being initiatives
X-ALT-DESC;FMTTYPE=text/html:<p style="margin: 0px\;">Please join our exclusive gathering of like-minded employers and well-being experts for this interactive and informative workforce health seminar. Our goal is to help you form a holistic strategy to support your employees&rsquo\; financial well-being.&nbsp\;At this workshop\, you will:<br />\n&bull\;&nbsp\; Gain insight into your employees&rsquo\; financial health and your role in supporting them.<br />\n&bull\;&nbsp\; Review current best practices in the industry for supporting financial health.<br />\n&bull\;&nbsp\; Examine the benefits of a targeted approach toward addressing employees&rsquo\;&nbsp\;needs\, priorities\, and beliefs.<br />\n&bull\;&nbsp\;Learn to leverage resources to support financial well-being initiatives</p>\n\n<p style="margin: 0px\;"><br />\n&nbsp\;</p>\n
LOCATION:Chamber Office 134 Holiday Court\, Suite 316 Annapolis
UID:e.2745.1367
SEQUENCE:3
DTSTAMP:20260424T011913Z
URL:https://dev.annearundelchamber.org/events/details/networking-breakfast-financial-health-your-bottom-line-1367
END:VEVENT

END:VCALENDAR
