BEGIN:VCALENDAR
VERSION:2.0
PRODID:-//ChamberMaster//Event Calendar 2.0//EN
METHOD:PUBLISH
X-PUBLISHED-TTL:P3D
REFRESH-INTERVAL:P3D
CALSCALE:GREGORIAN
BEGIN:VEVENT
DTSTART:20190920T230000Z
DTEND:20190921T020000Z
X-MICROSOFT-CDO-ALLDAYEVENT:FALSE
SUMMARY:Networking with the Bayhawks
DESCRIPTION:Join us at Navy-Marine Corp Memorial Stadium for a Bayhawks game along with some great networking. For only $30 you will watch the game from an End Zone suite\, enjoy outstanding food and beverages and met new people to expand your business network.  John Riggins\, former Redskins running back will be joining us to draw the six winners of tickets for the game against the Patriots. Should be a great night. Space is limited.
X-ALT-DESC;FMTTYPE=text/html:Join us at Navy-Marine Corp Memorial Stadium for a&nbsp\;Bayhawks game along with some great networking. For only $30 you will watch the game from an End Zone suite\, enjoy outstanding food and beverages and met new people to expand your business network.&nbsp\; John Riggins\, former Redskins running back will be joining us to draw the six winners of tickets for the game against the Patriots. Should be a great night. Space is limited.
LOCATION:Navy-Marine Corps Memorial Stadium
UID:e.2745.1368
SEQUENCE:3
DTSTAMP:20260424T023911Z
URL:https://dev.annearundelchamber.org/events/details/networking-with-the-bayhawks-1368
END:VEVENT

END:VCALENDAR
