BEGIN:VCALENDAR
VERSION:2.0
PRODID:-//ChamberMaster//Event Calendar 2.0//EN
METHOD:PUBLISH
X-PUBLISHED-TTL:P3D
REFRESH-INTERVAL:P3D
CALSCALE:GREGORIAN
BEGIN:VEVENT
DTSTART:20230216T223000Z
DTEND:20230217T000000Z
X-MICROSOFT-CDO-ALLDAYEVENT:FALSE
SUMMARY:Online Reputation Seminar– Fixing Google Results\, Wikipedia\, and More!
DESCRIPTION:Everyone's concerned about their online reputation but no one's quite sure what to do about it. Worried about SEO\, reviews\, Google results\, Wikipedia\, or any other scary sounding tools that you're uncomfortably aware that you may be responsible for. PRSA Chesapeake is holding a seminar to provide tactics you can use when you get home and some mini case studies. We'll have plenty of time for interactive exploration of your online presence\, and what you can do to improve it.\n\n\n\nPlease join communications professionals from the Annapolis and Chesapeake region and bring a colleague. Members and non-members are welcome. Parking is free. Registration includes appetizers. Cash bar.
X-ALT-DESC;FMTTYPE=text/html:Everyone&rsquo\;s concerned about their online reputation but no one&rsquo\;s quite sure what to do about it. Worried about SEO\, reviews\, Google results\, Wikipedia\, or any other scary sounding tools that you&rsquo\;re uncomfortably aware that you may be responsible for. PRSA Chesapeake is holding a seminar to provide tactics you can use when you get home and some mini case studies. We&#39\;ll have plenty of time for interactive exploration of your online presence\, and what you can do to improve it.<br />\n<br />\n<span font-size:="" helvetica="" style="font-family: Arial\, ">Please join communications professionals from the Annapolis and Chesapeake region and bring a colleague. Members and non-members are welcome. Parking is free. Registration includes appetizers. Cash bar.</span>
LOCATION:Uncle Julio's Annapolis\, private room
UID:e.2745.4047
SEQUENCE:3
DTSTAMP:20260421T195905Z
URL:https://dev.annearundelchamber.org/events/details/online-reputation-seminar-fixing-google-results-wikipedia-and-more-4047
END:VEVENT

END:VCALENDAR
