BEGIN:VCALENDAR
VERSION:2.0
PRODID:-//ChamberMaster//Event Calendar 2.0//EN
METHOD:PUBLISH
X-PUBLISHED-TTL:P3D
REFRESH-INTERVAL:P3D
CALSCALE:GREGORIAN
BEGIN:VEVENT
DTSTART:20221018T133000Z
DTEND:20221018T140000Z
X-MICROSOFT-CDO-ALLDAYEVENT:FALSE
SUMMARY:Panacea Ribbon Cutting
DESCRIPTION:Join Us for a Grand Opening Celebration at the new Panacea Wellness Dispensary in Annapolis!\n\n\n\nWHO:   Maryland State Senator Sarah Elfreth (D-Anne Arundel County)   Maryland State Senator Brian Feldman (D-Montgomery County)   Anne Arundel County Executive Steuart Pittman (D)   Annapolis City Mayor Gavin Buckley (D)   MariMed President Jon Levine   MariMed Maryland General Manager Jeff Jones   Other state and local VIPs and Company executives\n\n\n\nWHAT: The Grand Opening celebration of our new Panacea Wellness dispensary\, featuring remarks from state and local politicians and Company executives\, a ceremonial ribbon-cutting\, a local DJ\, complimentary food and drink\, and more. Panacea Wellness Annapolis features MariMed's portfolio of award-winning brands\, including Nature's Heritage craft flower and concentrates\, Betty's Eddies all-natural fruit chews\, and Bubby's Baked soft baked goods\, as well as a selection of products from a wide variety of other Maryland brands\n\n\n\nWHEN: Tuesday\, October 18th\, 2022 from 9:30a ET   10:30a ET (rain or shine). The ribbon-cutting ceremony will begin promptly a 9:30a ET. The dispensary will open to Maryland medical cannabis patients at 10:00a ET.\n\n\n\nWHERE: Panacea Wellness dispensary located at 2061 Generals Highway in Annapolis\n\n\n\nMORE INFORMATION: More information about the dispensary is available at www.panaceawellness.com.
X-ALT-DESC;FMTTYPE=text/html:Join Us for a Grand Opening Celebration at the new Panacea Wellness Dispensary in Annapolis!<br />\n<br />\nWHO: &bull\; Maryland State Senator Sarah Elfreth (D-Anne Arundel County) &bull\; Maryland State Senator Brian Feldman (D-Montgomery County) &bull\; Anne Arundel County Executive Steuart Pittman (D) &bull\; Annapolis City Mayor Gavin Buckley (D) &bull\; MariMed President Jon Levine &bull\; MariMed Maryland General Manager Jeff Jones &bull\; Other state and local VIPs and Company executives<br />\n<br />\nWHAT: The Grand Opening celebration of our new Panacea Wellness dispensary\, featuring remarks from state and local politicians and Company executives\, a ceremonial ribbon-cutting\, a local DJ\, complimentary food and drink\, and more. Panacea Wellness Annapolis features MariMed&rsquo\;s portfolio of award-winning brands\, including Nature&rsquo\;s Heritage craft flower and concentrates\, Betty&rsquo\;s Eddies all-natural fruit chews\, and Bubby&rsquo\;s Baked soft baked goods\, as well as a selection of products from a wide variety of other Maryland brands<br />\n<br />\nWHEN: Tuesday\, October 18th\, 2022 from 9:30a ET &ndash\; 10:30a ET (rain or shine). The ribbon-cutting ceremony will begin promptly a 9:30a ET. The dispensary will open to Maryland medical cannabis patients at 10:00a ET.<br />\n<br />\nWHERE: Panacea Wellness dispensary located at 2061 Generals Highway in Annapolis<br />\n<br />\nMORE INFORMATION: More information about the dispensary is available at <a href="http://www.panaceawellness.com" onclick="window.open(this.href\, ''\, 'resizable=no\,status=no\,location=no\,toolbar=no\,menubar=no\,fullscreen=no\,scrollbars=no\,dependent=no')\; return false\;">www.panaceawellness.com</a>.
LOCATION:2061 Generals Highway in Crownsville
UID:e.2745.3997
SEQUENCE:3
DTSTAMP:20260422T012547Z
URL:https://dev.annearundelchamber.org/events/details/panacea-ribbon-cutting-3997
END:VEVENT

END:VCALENDAR
