BEGIN:VCALENDAR
VERSION:2.0
PRODID:-//ChamberMaster//Event Calendar 2.0//EN
METHOD:PUBLISH
X-PUBLISHED-TTL:P3D
REFRESH-INTERVAL:P3D
CALSCALE:GREGORIAN
BEGIN:VEVENT
DTSTART:20201010T160000Z
DTEND:20201019T020000Z
X-MICROSOFT-CDO-ALLDAYEVENT:FALSE
SUMMARY:Passing the Baton\, Annapolis Opera's Virtual Gala & Auction
DESCRIPTION:Annapolis Opera will host Passing the Baton\, a virtual gala and auction\, to mark the transition of its directorship and raise funds during this unprecedented year. Attendees from near and far will enjoy live and recorded performances by favorite Annapolis Opera artists\, singers\, and directors\, while those within 30 miles of Annapolis will also receive a curated gourmet package\, including a bottle of French Premier Cru champagne and a box of sweet and savory snacks\, delivered to their doorstep in an Annapolis Opera commemorative thermal bag. The auction\, meanwhile\, will offer bidders a chance to win unique experiences and items\, including four rare photographs taken and signed by Marion E. Warren. WHEN: Gala: Saturday\, October 17\, starting at 6pmET Auction: Saturday\, October 10 through Sunday\, October 18 WHERE: Your home! Information on accessing the online event will be provided upon ticket purchase. The virtual auction will be accessible here: https://one.bidpal.net/passingthebaton WHY: The ticketed event will serve to: - bid adieu to retiring Artistic Director Ronald Gretz and Stage Director Braxton Peters\, who have served the company for 37 and 27 years\, respectively. - welcome new Artistic and Music Director Craig Kier. - help the 47-year-old nonprofit continue to present its diverse live performances\, children's opera\, annual vocal competition\, and educational programs to the greater Annapolis region. HOW: To learn more or purchase tickets\, visit http://annapolisopera.org/passing-the-baton/ or call 410-267-8135
X-ALT-DESC;FMTTYPE=text/html:Annapolis Opera will host Passing the Baton\, a virtual gala and auction\, to mark the transition of its directorship and raise funds during this unprecedented year. Attendees from near and far will enjoy live and recorded performances by favorite Annapolis Opera artists\, singers\, and directors\, while those within 30 miles of Annapolis will also receive a curated gourmet package\, including a bottle of French Premier Cru champagne and a box of sweet and savory snacks\, delivered to their doorstep in an Annapolis Opera commemorative thermal bag. The auction\, meanwhile\, will offer bidders a chance to win unique experiences and items\, including four rare photographs taken and signed by Marion E. Warren. WHEN: Gala: Saturday\, October 17\, starting at 6pmET Auction: Saturday\, October 10 through Sunday\, October 18 WHERE: Your home! Information on accessing the online event will be provided upon ticket purchase. The virtual auction will be accessible here: https://one.bidpal.net/passingthebaton WHY: The ticketed event will serve to: - bid adieu to retiring Artistic Director Ronald Gretz and Stage Director Braxton Peters\, who have served the company for 37 and 27 years\, respectively. - welcome new Artistic and Music Director Craig Kier. - help the 47-year-old nonprofit continue to present its diverse live performances\, children&rsquo\;s opera\, annual vocal competition\, and educational programs to the greater Annapolis region. HOW: To learn more or purchase tickets\, visit http://annapolisopera.org/passing-the-baton/ or call 410-267-8135
LOCATION:Your home! Information on accessing the online event will be provided upon ticket purchase. The virtual auction will be accessible here: https://one.bidpal.net/passingthebaton
UID:e.2745.3491
SEQUENCE:3
DTSTAMP:20260423T092719Z
URL:https://dev.annearundelchamber.org/events/details/passing-the-baton-annapolis-opera-s-virtual-gala-auction-3491
END:VEVENT

END:VCALENDAR
