BEGIN:VCALENDAR
VERSION:2.0
PRODID:-//ChamberMaster//Event Calendar 2.0//EN
METHOD:PUBLISH
X-PUBLISHED-TTL:P3D
REFRESH-INTERVAL:P3D
CALSCALE:GREGORIAN
BEGIN:VEVENT
DTSTART:20191210T163000Z
DTEND:20191210T180000Z
X-MICROSOFT-CDO-ALLDAYEVENT:FALSE
SUMMARY:Planning for Growth in 2020?
DESCRIPTION:To help you get ready for 2020\, the Chamber has partnered with Ever Evolving to offer a workshop that will provide insights into the social\, economic and demographic conditions throughout the State of Maryland.  You will learn how to put the Open Data Portal for Business to work for your business in the New Year. Space is limited to 20.
X-ALT-DESC;FMTTYPE=text/html:To help you get ready for 2020\, the Chamber has partnered with Ever Evolving to offer a workshop that will provide insights into the social\, economic and demographic conditions throughout the State of Maryland.&nbsp\; You will learn how to put the Open Data Portal for Business to work for your business in the New Year. Space is limited to 20.
LOCATION:Regus Annapolis Towne Center 2nd level about Baltimore Coffee
UID:e.2745.2636
SEQUENCE:3
DTSTAMP:20260423T223352Z
URL:https://dev.annearundelchamber.org/events/details/planning-for-growth-in-2020-2636
END:VEVENT

END:VCALENDAR
