BEGIN:VCALENDAR
VERSION:2.0
PRODID:-//ChamberMaster//Event Calendar 2.0//EN
METHOD:PUBLISH
X-PUBLISHED-TTL:P3D
REFRESH-INTERVAL:P3D
CALSCALE:GREGORIAN
BEGIN:VEVENT
DTSTART:20220904T213000Z
DTEND:20220904T233000Z
X-MICROSOFT-CDO-ALLDAYEVENT:FALSE
SUMMARY:Pops in the Park with the ASO
DESCRIPTION:"SUNDAY\, SEPTEMBER 4\, 2022 | 5:30 PM *with a rain date of Monday\, September 5\, 2022 at 5:30 p.m. Quiet Waters Park The ASO is ready to make some noise at Quiet Waters Park for our annual Pops in the Park concert! We can't wait to see you to kick off our 2022-2023 Season. This free concert is presented in associated with the Anne Arundel County Department of Recreation and Parks. We encourage concert goers to use the abundant open space of the park to spread out and continue to practice safe distancing. Picnics\, chairs\, blankets\, strollers are welcome. Alcoholic beverages are not permitted. Concessions are available. Door Prizes for ticket holders. Get FREE TICKETS online."
X-ALT-DESC;FMTTYPE=text/html:&quot\;SUNDAY\, SEPTEMBER 4\, 2022 | 5:30 PM *with a rain date of Monday\, September 5\, 2022 at 5:30 p.m. Quiet Waters Park The ASO is ready to make some noise at Quiet Waters Park for our annual Pops in the Park concert! We can&#39\;t wait to see you to kick off our 2022-2023 Season. This free concert is presented in associated with the Anne Arundel County Department of Recreation and Parks. We encourage concert goers to use the abundant open space of the park to spread out and continue to practice safe distancing. Picnics\, chairs\, blankets\, strollers are welcome. Alcoholic beverages are not permitted. Concessions are available. Door Prizes for ticket holders. Get FREE TICKETS online.&quot\;
LOCATION:600 Quiet Waters Park Rd Annapolis\, MD 21403
UID:e.2745.3973
SEQUENCE:3
DTSTAMP:20260422T024051Z
URL:https://dev.annearundelchamber.org/events/details/pops-in-the-park-with-the-aso-3973
END:VEVENT

END:VCALENDAR
