BEGIN:VCALENDAR
VERSION:2.0
PRODID:-//ChamberMaster//Event Calendar 2.0//EN
METHOD:PUBLISH
X-PUBLISHED-TTL:P3D
REFRESH-INTERVAL:P3D
CALSCALE:GREGORIAN
BEGIN:VEVENT
DTSTART:20210113T180000Z
DTEND:20210113T193000Z
X-MICROSOFT-CDO-ALLDAYEVENT:FALSE
SUMMARY:Prepping our Youth for the Workplace through Mentoring
DESCRIPTION:Join Maryland MENTOR and a group of workforce and career readiness partners to discuss the necessity of and the power we have to prepare our young people for the future of work.
X-ALT-DESC;FMTTYPE=text/html:Join Maryland MENTOR and a group of workforce and career readiness partners to discuss the necessity of and the power we have to prepare our young people for the future of work.
LOCATION:https://us02web.zoom.us/meeting/register/tZUqd-CrrT0rH9LfPF9Hg2awr06QPNkU2x4X
UID:e.2745.3502
SEQUENCE:3
DTSTAMP:20260423T053145Z
URL:https://dev.annearundelchamber.org/events/details/prepping-our-youth-for-the-workplace-through-mentoring-3502
END:VEVENT

END:VCALENDAR
