BEGIN:VCALENDAR
VERSION:2.0
PRODID:-//ChamberMaster//Event Calendar 2.0//EN
METHOD:PUBLISH
X-PUBLISHED-TTL:P3D
REFRESH-INTERVAL:P3D
CALSCALE:GREGORIAN
BEGIN:VEVENT
DTSTART:20231014T230000Z
DTEND:20231015T020000Z
X-MICROSOFT-CDO-ALLDAYEVENT:FALSE
SUMMARY:Providence of Maryland’s 9th Annual Harvest Bash
DESCRIPTION:Join us for Providence of Maryland's 9th Annual Harvest Bash\, a night of revelry like no other in support of our mission. The Bash is our largest fundraiser of the year\, and your chance to help support over 300 people in Anne Arundel and Charles Counties to discover and live their best lives! Tickets are now available for this year's event\, taking place on Saturday\, October 14th at 7 PM at Providence's Greenhouses in Arnold. Under a canopy of stars and thousands of twinkling lights\, enjoy a feast of fall bounty\, abundant cocktails\, live music by the Dan Haas Band & Larry Lay\, as well as live & silent auctions\, pottery and fall plant shopping\, s'mores\, libation tastings\, a fireside lounge and more! For more information and to purchase tickets visit providenceofmaryland.org/event/providences-9th-annual-harvest-bash/ or to purchase tickets by phone please call 410-766-2212 x 105.
X-ALT-DESC;FMTTYPE=text/html:Join us for Providence of Maryland&rsquo\;s 9th Annual Harvest Bash\, a night of revelry like no other in support of our mission. The Bash is our largest fundraiser of the year\, and your chance to help support over 300 people in Anne Arundel and Charles Counties to discover and live their best lives! Tickets are now available for this year&rsquo\;s event\, taking place on Saturday\, October 14th at 7 PM at Providence&rsquo\;s Greenhouses in Arnold. Under a canopy of stars and thousands of twinkling lights\, enjoy a feast of fall bounty\, abundant cocktails\, live music by the Dan Haas Band &amp\; Larry Lay\, as well as live &amp\; silent auctions\, pottery and fall plant shopping\, s&rsquo\;mores\, libation tastings\, a fireside lounge and more! For more information and to purchase tickets visit providenceofmaryland.org/event/providences-9th-annual-harvest-bash/ or to purchase tickets by phone please call 410-766-2212 x 105.
LOCATION:Providence's Greenhouses in Arnold. 370 Shore Acres Rd Arnold\, MD 21012
UID:e.2745.4200
SEQUENCE:3
DTSTAMP:20260421T084023Z
URL:https://dev.annearundelchamber.org/events/details/providence-of-maryland-s-9th-annual-harvest-bash-4200
END:VEVENT

END:VCALENDAR
