BEGIN:VCALENDAR
VERSION:2.0
PRODID:-//ChamberMaster//Event Calendar 2.0//EN
METHOD:PUBLISH
X-PUBLISHED-TTL:P3D
REFRESH-INTERVAL:P3D
CALSCALE:GREGORIAN
BEGIN:VEVENT
DTSTART:20230623T220000Z
DTEND:20230624T020000Z
X-MICROSOFT-CDO-ALLDAYEVENT:FALSE
SUMMARY:Providence’s Designer Bag Bingo Fundraiser
DESCRIPTION:Join Providence for a Designer Bag Bingo Fundraiser on Friday\, June 23rd at the Severna Park Elks Lodge! Doors open at 5PM and Bingo starts at 6PM. This is a great night of? bingo with the chance to win Kate Spade\, Tory Burch\, Michael Kors and Coach ?purses\, plus tons of raffle baskets\, 50/50 raffles\, door prizes and more\, all in support of Providence and people with intellectual and developmental disabilities! Tickets are $25 in advance and $30 at the door\, pending availability. VIP and VIP+ Tickets are available too so you can skip the line! Click the link for full details and to purchase tickets. ? ?There will be 20 regular games and 4 specials. Extra cards\, special cards\, raffle tickets and bingo markers will be available for purchase cash or credit\, 50/50 tickets are cash only. ????Tables can be reserved for parties of 6 or more. Food\, soft drinks\, beer and wine (21+) will be available for purchase through the Elks. Cash Only. ??Outside food and non-alcoholic beverages are permitted. No outside alcohol is allowed. ? ?
X-ALT-DESC;FMTTYPE=text/html:Join Providence for a Designer Bag Bingo Fundraiser on Friday\, June 23rd at the Severna Park Elks Lodge! Doors open at 5PM and Bingo starts at 6PM. This is a great night of? bingo with the chance to win Kate Spade\, Tory Burch\, Michael Kors and Coach ?purses\, plus tons of raffle baskets\, 50/50 raffles\, door prizes and more\, all in support of Providence and people with intellectual and developmental disabilities! Tickets are $25 in advance and $30 at the door\, pending availability. VIP and VIP+ Tickets are available too so you can skip the line! Click the link for full details and to purchase tickets. ? ?There will be 20 regular games and 4 specials. Extra cards\, special cards\, raffle tickets and bingo markers will be available for purchase cash or credit\, 50/50 tickets are cash only. ????Tables can be reserved for parties of 6 or more. Food\, soft drinks\, beer and wine (21+) will be available for purchase through the Elks. Cash Only. ??Outside food and non-alcoholic beverages are permitted. No outside alcohol is allowed. ? ?
LOCATION:Severna Park Elks Lodge 160 Truckhouse Road Severna Park\, MD 21146
UID:e.2745.4126
SEQUENCE:3
DTSTAMP:20260421T145113Z
URL:https://dev.annearundelchamber.org/events/details/providence-s-designer-bag-bingo-fundraiser-4126
END:VEVENT

END:VCALENDAR
