BEGIN:VCALENDAR
VERSION:2.0
PRODID:-//ChamberMaster//Event Calendar 2.0//EN
METHOD:PUBLISH
X-PUBLISHED-TTL:P3D
REFRESH-INTERVAL:P3D
CALSCALE:GREGORIAN
BEGIN:VEVENT
DTSTART:20230511T210000Z
DTEND:20230511T233000Z
X-MICROSOFT-CDO-ALLDAYEVENT:FALSE
SUMMARY:PRSA Chesapeake PR Bazaar
DESCRIPTION:The evening will provide a basic introduction to local media. Attendees will develop an understanding of different forms of media and how media can directly impact mission success. They will learn how seasoned public relations professionals work with the media and how they can develop the skills necessary to get stories covered by newspapers\, radio and TV stations\, and other area media outlets. Attendees and media alike will have the opportunity to interact in a small group setting in the form of "speed networking." Benefits the Wendi Winters Memorial Foundation
X-ALT-DESC;FMTTYPE=text/html:The evening will provide a basic introduction to local media. Attendees will develop an understanding of different forms of media and how media can directly impact mission success. They will learn how seasoned public relations professionals work with the media and how they can develop the skills necessary to get stories covered by newspapers\, radio and TV stations\, and other area media outlets. Attendees and media alike will have the opportunity to interact in a small group setting in the form of &ldquo\;speed networking.&rdquo\; Benefits the Wendi Winters Memorial Foundation
LOCATION:Bowen Theater\, Maryland Hall for the Creative Arts
UID:e.2745.4107
SEQUENCE:3
DTSTAMP:20260421T160044Z
URL:https://dev.annearundelchamber.org/events/details/prsa-chesapeake-pr-bazaar-4107
END:VEVENT

END:VCALENDAR
