BEGIN:VCALENDAR
VERSION:2.0
PRODID:-//ChamberMaster//Event Calendar 2.0//EN
METHOD:PUBLISH
X-PUBLISHED-TTL:P3D
REFRESH-INTERVAL:P3D
CALSCALE:GREGORIAN
BEGIN:VEVENT
DTSTART:20220610T233000Z
DTEND:20220611T020000Z
X-MICROSOFT-CDO-ALLDAYEVENT:FALSE
SUMMARY:Queens on Queen
DESCRIPTION:June is Pride month\, and Watermark is celebrating with queens on the Queen! Join us for a raunchy\, over-the-top drag queen show. These fabulous queens will entertain you with comedic and musical acts throughout the 2.5-hour cruise. You're in store for an evening full of hilarious skits\, side-splitting performances and whatever other absolute ridiculousness these "ladies" can come up with! Grab a cocktail\, and practice your best "YASS QUEEN" because these divas are taking over! This event is 21 and over only. Alcoholic and non-alcoholic beverages will be available for purchase from our full bar.
X-ALT-DESC;FMTTYPE=text/html:<span style="background-color:rgb(255\, 255\, 255)\; color:rgb(2\, 15\, 20)\; font-family:roboto\,sans-serif\; font-size:18px">June is Pride month\, and Watermark is celebrating with queens on the Queen! Join us for a raunchy\, over-the-top drag queen show. These fabulous queens will entertain you with comedic and musical acts throughout the 2.5-hour cruise. You&#39\;re in store for an evening full of hilarious skits\, side-splitting performances and whatever other absolute ridiculousness these &quot\;ladies&quot\; can come up with! Grab a cocktail\, and practice your best &ldquo\;YASS QUEEN&rdquo\; because these divas are taking over! This event is 21 and over only. Alcoholic and non-alcoholic beverages will be available for purchase from our full bar.</span>
LOCATION:Annapolis City Dock One Dock St Annapolis\, MD 21401
UID:e.2745.3950
SEQUENCE:3
DTSTAMP:20260422T061954Z
URL:https://dev.annearundelchamber.org/events/details/queens-on-queen-3950
END:VEVENT

END:VCALENDAR
