BEGIN:VCALENDAR
VERSION:2.0
PRODID:-//ChamberMaster//Event Calendar 2.0//EN
METHOD:PUBLISH
X-PUBLISHED-TTL:P3D
REFRESH-INTERVAL:P3D
CALSCALE:GREGORIAN
BEGIN:VEVENT
DTSTART:20221113T180000Z
DTEND:20221113T210000Z
X-MICROSOFT-CDO-ALLDAYEVENT:FALSE
SUMMARY:Read Between the Wines
DESCRIPTION:Enjoy a beautiful fall day with old friends and new and meet some of the staff from your library. Tickets purchased by Wednesday\, November 9 by 12 pm are $55 per person and will include: 2 glasses of wine. 1 individual charcuterie plate from CharcuterLeigh. 1 souvenir Great Frogs wine glass. 1 raffle ticket for a chance to win a bottle wine. A portion of each ticket will be donated to the library and Great Frogs will donate 25% of all on site sales during the event (event tickets not included). **Event is rain or shine. Tickets are not refundable.** **After 12 pm on November 9\, online ticket sales will close and tickets will only be available at the door.** *Tickets sold at the door will be $65 per person and will not include a snack pack.* *Guests must be 21 years of age and older.*
X-ALT-DESC;FMTTYPE=text/html:Enjoy a beautiful fall day with old friends and new and meet some of the staff from your library. Tickets purchased by Wednesday\, November 9 by 12 pm are $55 per person and will include: 2 glasses of wine. 1 individual charcuterie plate from CharcuterLeigh. 1 souvenir Great Frogs wine glass. 1 raffle ticket for a chance to win a bottle wine. A portion of each ticket will be donated to the library and Great Frogs will donate 25% of all on site sales during the event (event tickets not included). **Event is rain or shine. Tickets are not refundable.** **After 12 pm on November 9\, online ticket sales will close and tickets will only be available at the door.** *Tickets sold at the door will be $65 per person and will not include a snack pack.* *Guests must be 21 years of age and older.*
LOCATION:Great Frogs Winery 3218 Harness Creek Rd\, Annapolis\, MD 21403
UID:e.2745.4009
SEQUENCE:3
DTSTAMP:20260421T235700Z
URL:https://dev.annearundelchamber.org/events/details/read-between-the-wines-4009
END:VEVENT

END:VCALENDAR
