BEGIN:VCALENDAR
VERSION:2.0
PRODID:-//ChamberMaster//Event Calendar 2.0//EN
METHOD:PUBLISH
X-PUBLISHED-TTL:P3D
REFRESH-INTERVAL:P3D
CALSCALE:GREGORIAN
BEGIN:VEVENT
DTSTART:20220520T213000Z
DTEND:20220521T003000Z
X-MICROSOFT-CDO-ALLDAYEVENT:FALSE
SUMMARY:Read Between the Wines at Great Frogs
DESCRIPTION:Join us at the picturesque Great Frogs Winery in Annapolis for Read Between the Wines! Tickets are limited. Enjoy a beautiful early summer evening with old friends and new. Meet some of the staff from the Eastport-Annapolis Neck branch while decorating your own custom wine bag (while supplies last). Live music by local artist Alexander Peters! A portion of each ticket will be donated to the library and Great Frogs will donate 15% of all on site sales during the event (event tickets not included). *Guests must be 21 years of age and older.*
X-ALT-DESC;FMTTYPE=text/html:Join us at the picturesque Great Frogs Winery in Annapolis for Read Between the Wines! Tickets are limited. Enjoy a beautiful early summer evening with old friends and new. Meet some of the staff from the Eastport-Annapolis Neck branch while decorating your own custom wine bag (while supplies last). Live music by local artist Alexander Peters! A portion of each ticket will be donated to the library and Great Frogs will donate 15% of all on site sales during the event (event tickets not included). *Guests must be 21 years of age and older.*
LOCATION:Great Frogs Winery 3218 Harness Creek Rd\, Annapolis\, MD 21403
UID:e.2745.3949
SEQUENCE:3
DTSTAMP:20260422T074201Z
URL:https://dev.annearundelchamber.org/events/details/read-between-the-wines-at-great-frogs-3949
END:VEVENT

END:VCALENDAR
