BEGIN:VCALENDAR
VERSION:2.0
PRODID:-//ChamberMaster//Event Calendar 2.0//EN
METHOD:PUBLISH
X-PUBLISHED-TTL:P3D
REFRESH-INTERVAL:P3D
CALSCALE:GREGORIAN
BEGIN:VEVENT
DTSTART:20190920T170000Z
DTEND:20190921T000000Z
X-MICROSOFT-CDO-ALLDAYEVENT:FALSE
SUMMARY:Redskins Ticket Raffle
DESCRIPTION:The Washington Redskins and the Chamber are pleased to offer a awesome opportunity to win a pair of tickets to watch the October 6th game against Tom Brady and the New England Patriots from an Executive Suite!  Only 200 raffle tickets will be sold and we will pick six winners\, so you have a great chance to win a pair of tickets to the game.
X-ALT-DESC;FMTTYPE=text/html:The Washington Redskins and the Chamber are pleased to offer a awesome opportunity to win a pair of tickets to watch the October 6th game against Tom Brady and the New England Patriots from an Executive Suite!&nbsp\; <span style="font-size:16px\;"><strong>Only 200 raffle tickets will be sold</strong></span> and we will pick six winners\, so you have a great chance to win a pair of tickets to the game.&nbsp\;
LOCATION:
UID:e.2745.1363
SEQUENCE:3
DTSTAMP:20260424T034608Z
URL:https://dev.annearundelchamber.org/events/details/redskins-ticket-raffle-1363
END:VEVENT

END:VCALENDAR
