BEGIN:VCALENDAR
VERSION:2.0
PRODID:-//ChamberMaster//Event Calendar 2.0//EN
METHOD:PUBLISH
X-PUBLISHED-TTL:P3D
REFRESH-INTERVAL:P3D
CALSCALE:GREGORIAN
BEGIN:VEVENT
DTSTART:20230422T230000Z
DTEND:20230423T013000Z
X-MICROSOFT-CDO-ALLDAYEVENT:FALSE
SUMMARY:Rock the Harbor with Tranzfusion
DESCRIPTION:Tranzfusion is back by popular demand for a live music cruise in Annapolis! Tranzfusion\, a classic rock band from Salisbury\, Maryland\, will rock the Harbor on this 2.5-hour cruise.\n\n\n\nTranzfusion is a live classic rock band from Salisbury\, Maryland. They are well into their third decade of performing\, mainly on the Delmarva Penninsula and across the Chesapeake Bay Bridge. They are a summer favorite at beach bars in Ocean City\, Maryland\, and are best known for their tight\, spirited renditions of classics by Santana\, Neil Young\, the Rolling Stones\, the Doors\, Dire Straits\, the Beatles\, the Who\, Tom Petty\, and others. The band members are drummer Bobby Malaby\, bassist Al Cook\, guitarist Hank Koenig\, keyboardist Bob Davis\, and sound tech Paul Brunkhorst. All four band members contribute
X-ALT-DESC;FMTTYPE=text/html:<div>\n<p><span style="font-size:18px">Tranzfusion is back by popular demand for a live music cruise in Annapolis! Tranzfusion\, a classic rock band from Salisbury\, Maryland\, will rock the Harbor on this 2.5-hour cruise.</span></p>\n</div>\n\n<div style="background:0px 0px rgb(255\, 255\, 255)\; border:none\; padding:0px">\n<p><a href="https://www.facebook.com/tranzfusionband" rel="noopener" style="box-sizing: inherit\; background: 0px 0px\; margin: 0px\; padding: 0px\; border: 0px\; outline: 0px\; vertical-align: baseline\; line-height: 35px\;" target="_blank">Tranzfusion</a>&nbsp\;is a live classic rock band from Salisbury\, Maryland. They are well into their third decade of performing\, mainly on the Delmarva Penninsula and across the Chesapeake Bay Bridge. They are a summer favorite at beach bars in Ocean City\, Maryland\, and are best known for their tight\, spirited renditions of classics by Santana\, Neil Young\, the Rolling Stones\, the Doors\, Dire Straits\, the Beatles\, the Who\, Tom Petty\, and others. The band members are drummer Bobby Malaby\, bassist Al Cook\, guitarist Hank Koenig\, keyboardist Bob Davis\, and sound tech Paul Brunkhorst. All four band members contribute</p>\n</div>\n
LOCATION:Annapolis City Dock One Dock St Annapolis\, MD 21401
UID:e.2745.4057
SEQUENCE:3
DTSTAMP:20260421T172341Z
URL:https://dev.annearundelchamber.org/events/details/rock-the-harbor-with-tranzfusion-4057
END:VEVENT

END:VCALENDAR
