BEGIN:VCALENDAR
VERSION:2.0
PRODID:-//ChamberMaster//Event Calendar 2.0//EN
METHOD:PUBLISH
X-PUBLISHED-TTL:P3D
REFRESH-INTERVAL:P3D
CALSCALE:GREGORIAN
BEGIN:VEVENT
DTSTART:20211021T210000Z
DTEND:20211022T000000Z
X-MICROSOFT-CDO-ALLDAYEVENT:FALSE
SUMMARY:Rooftop Networking and Happy Hour
DESCRIPTION:This is your opportunity to meet new people and grow your business! Jenkins Group is hosting a rooftop happy hour and networking event at the Lamborne Lending Office! Come talk with more like minded professionals and catch the sunset at the rooftop office.\n\n\n\nLight Appetizers\, Beer\, Wine\, and a Signature Cocktail will be provided for no charge.\n\n\n\nRSVP on https://www.eventbrite.com/e/rooftop-happy-hour-and-networking-event-tickets-184835938267
X-ALT-DESC;FMTTYPE=text/html:<span style="color:rgb(0\, 0\, 0)">This is your opportunity to meet new people and grow your business! Jenkins Group is hosting a rooftop happy hour and networking event at the Lamborne Lending Office! Come talk with more like minded professionals and catch the sunset at the rooftop office.<br />\n<br />\nLight Appetizers\, Beer\, Wine\, and a Signature Cocktail will be provided for no charge.<br />\n<br />\nRSVP on&nbsp\;</span>https://www.eventbrite.com/e/rooftop-happy-hour-and-networking-event-tickets-184835938267<span style="color:rgb(0\, 0\, 0)"> </span>
LOCATION:175 Admiral Cochrane Drive\, Suite 404\, Annapolis\, MD\, 21401
UID:e.2745.3838
SEQUENCE:3
DTSTAMP:20260422T170854Z
URL:https://dev.annearundelchamber.org/events/details/rooftop-networking-and-happy-hour-3838
END:VEVENT

END:VCALENDAR
