BEGIN:VCALENDAR
VERSION:2.0
PRODID:-//ChamberMaster//Event Calendar 2.0//EN
METHOD:PUBLISH
X-PUBLISHED-TTL:P3D
REFRESH-INTERVAL:P3D
CALSCALE:GREGORIAN
BEGIN:VEVENT
DTSTART:20200217T170000Z
DTEND:20200217T200000Z
X-MICROSOFT-CDO-ALLDAYEVENT:FALSE
SUMMARY:Schools Out Day Camp
DESCRIPTION:Our day camps are packed full of fun and engaging activities including coding\, game-building\, and robotics!
X-ALT-DESC;FMTTYPE=text/html:<span style="font-family:verdana"><span style="font-size:22px"><span style="background-color:rgb(255\, 255\, 255)\; color:rgb(45\, 46\, 45)">Our day camps are packed full of fun and engaging activities including coding\, game-building\, and robotics!</span></span></span>
LOCATION:Code Ninjas 145 Mitchells Chance Road Edgewater\, MD 21037
UID:e.2745.2657
SEQUENCE:3
DTSTAMP:20260423T194628Z
URL:https://dev.annearundelchamber.org/events/details/schools-out-day-camp-2657
END:VEVENT

END:VCALENDAR
