BEGIN:VCALENDAR
VERSION:2.0
PRODID:-//ChamberMaster//Event Calendar 2.0//EN
METHOD:PUBLISH
X-PUBLISHED-TTL:P3D
REFRESH-INTERVAL:P3D
CALSCALE:GREGORIAN
BEGIN:VEVENT
DTSTART:20230419T130000Z
DTEND:20230419T133000Z
X-MICROSOFT-CDO-ALLDAYEVENT:FALSE
SUMMARY:Sherwin Williams - Pasadena Ribbon Cutting
DESCRIPTION:Please join us in celebrating Sherwin William's newest location in Anne Arundel County!
X-ALT-DESC;FMTTYPE=text/html:Please join us in celebrating Sherwin William&#39\;s newest location in Anne Arundel County!
LOCATION:33 Magothy Beach Rd.\, Suite 105 Pasadena\, Md 21122
UID:e.2745.4076
SEQUENCE:3
DTSTAMP:20260421T172342Z
URL:https://dev.annearundelchamber.org/events/details/sherwin-williams-pasadena-ribbon-cutting-4076
END:VEVENT

END:VCALENDAR
