BEGIN:VCALENDAR
VERSION:2.0
PRODID:-//ChamberMaster//Event Calendar 2.0//EN
METHOD:PUBLISH
X-PUBLISHED-TTL:P3D
REFRESH-INTERVAL:P3D
CALSCALE:GREGORIAN
BEGIN:VEVENT
DTSTART:20180214T130000Z
DTEND:20180214T140000Z
X-MICROSOFT-CDO-ALLDAYEVENT:FALSE
SUMMARY:Sick Leave Law Presentation
DESCRIPTION:Not sure about the NEW Sick Leave Laws and their impact on your business? Attorneys Steven Brown & Susan Shapiro of Council Baradel can help with answers. \n\nLight Breakfast Served\n\nSponsored by First Citizens Bank & Council Baradel
X-ALT-DESC;FMTTYPE=text/html:Not sure about the NEW Sick Leave Laws and their impact on your business? Attorneys Steven Brown &amp\; Susan Shapiro of Council Baradel can help with answers.&nbsp\;<br />\nLight Breakfast Served<br />\nSponsored by First Citizens Bank &amp\; Council Baradel
LOCATION:First Citizens Bank 890 Bestgate Road Annapolis\, MD 21401
UID:e.2745.1268
SEQUENCE:3
DTSTAMP:20260425T105351Z
URL:https://dev.annearundelchamber.org/events/details/sick-leave-law-presentation-1268
END:VEVENT

END:VCALENDAR
