BEGIN:VCALENDAR
VERSION:2.0
PRODID:-//ChamberMaster//Event Calendar 2.0//EN
METHOD:PUBLISH
X-PUBLISHED-TTL:P3D
REFRESH-INTERVAL:P3D
CALSCALE:GREGORIAN
BEGIN:VEVENT
DTSTART:20230512T143000Z
DTEND:20230512T160000Z
X-MICROSOFT-CDO-ALLDAYEVENT:FALSE
SUMMARY:SuperYou Group Coaching Program
DESCRIPTION:Tap into your unique gifts so that you can create your future with energy and ease. This 8-week group coaching program includes guided activities\, personalized results from the CliftonStrengths assessment\, a 1:1 coaching session and weekly group coaching sessions on Fridays\, May 12-June 30 from 10:30am-12:00pm. To register\, go to https://freshleapcoaching.com/ or contact chris@freshleapcoaching.com
X-ALT-DESC;FMTTYPE=text/html:Tap into your unique gifts so that you can create your future with energy and ease. This 8-week group coaching program includes guided activities\, personalized results from the CliftonStrengths assessment\, a 1:1 coaching session and weekly group coaching sessions on Fridays\, May 12-June 30 from 10:30am-12:00pm. To register\, go to&nbsp\;<a href="https://freshleapcoaching.com/services-2/">https://freshleapcoaching.com/</a>&nbsp\;or contact chris@freshleapcoaching.com
LOCATION:
UID:e.2745.4101
SEQUENCE:3
DTSTAMP:20260421T155936Z
URL:https://dev.annearundelchamber.org/events/details/superyou-group-coaching-program-4101
END:VEVENT

END:VCALENDAR
