BEGIN:VCALENDAR
VERSION:2.0
PRODID:-//ChamberMaster//Event Calendar 2.0//EN
METHOD:PUBLISH
X-PUBLISHED-TTL:P3D
REFRESH-INTERVAL:P3D
CALSCALE:GREGORIAN
BEGIN:VEVENT
DTSTART:20230922T220000Z
DTEND:20230923T020000Z
X-MICROSOFT-CDO-ALLDAYEVENT:FALSE
SUMMARY:Taste of Generosity Greater DC-MD to benefit the National Multiple Sclerosis Society
DESCRIPTION:The National Multiple Sclerosis Society Greater DC-Maryland Board of Trustees invite you to join us for our inaugural community event in Maryland's capital\, the Taste of Generosity! We've set the stage for a fabulous Friday night out for you and your family\, friends\, and professional network\, to connect with our mission and to enjoy craft food\, beverage\, and lively entertainment.\n\nOur Taste of Generosity will feature an array of palate pleasing dishes\, from small plates to freshly shucked oysters\, and local desserts\, paired with an open beer and wine bar. Steel drum music from Orlando Phillips will fill the atrium from 6pm- 7:30pm\, followed by our headline entertainment\, The Flying Ivories dueling pianos\, in the ballroom to play your favorite tunes! Sip\, taste\, mingle\, and sing along all night while we raise funds to propel the National MS Society's mission through our exciting raffle\, with more than a dozen exciting experiences and item bundles!
X-ALT-DESC;FMTTYPE=text/html:<p>The National Multiple Sclerosis Society Greater DC-Maryland Board of Trustees invite you to join us for our inaugural community event in Maryland&#39\;s capital\, the Taste of Generosity! We&#39\;ve set the stage for a fabulous Friday night out for you and your family\, friends\, and professional network\, to connect with our mission and to enjoy craft food\, beverage\, and lively entertainment.</p>\n\n<p>Our Taste of Generosity will feature an array of palate pleasing dishes\, from small plates to freshly shucked oysters\, and local desserts\, paired with an open beer and wine bar. Steel drum music from Orlando Phillips will fill the atrium from 6pm- 7:30pm\, followed by our headline entertainment\, The Flying Ivories dueling pianos\, in the ballroom to play your favorite tunes! Sip\, taste\, mingle\, and sing along all night while we raise funds to propel the National MS Society&#39\;s mission through our exciting raffle\, with more than a dozen exciting experiences and item bundles!</p>\n
LOCATION:Graduate Annapolis 126 West Street Annapolis\, MD 21401
UID:e.2745.4171
SEQUENCE:3
DTSTAMP:20260421T104740Z
URL:https://dev.annearundelchamber.org/events/details/taste-of-generosity-greater-dc-md-to-benefit-the-national-multiple-sclerosis-society-4171
END:VEVENT

END:VCALENDAR
