BEGIN:VCALENDAR
VERSION:2.0
PRODID:-//ChamberMaster//Event Calendar 2.0//EN
METHOD:PUBLISH
X-PUBLISHED-TTL:P3D
REFRESH-INTERVAL:P3D
CALSCALE:GREGORIAN
BEGIN:VEVENT
DTSTART;VALUE=DATE:20191017
DTEND;VALUE=DATE:20191020
TRANSP:TRANSPARENT
X-MICROSOFT-CDO-ALLDAYEVENT:TRUE
SUMMARY:The Joint Chiropractic Annapolis Towne Centre - Grand Opening Weekend - 10/17 - 10/19
DESCRIPTION:The Joint Chiropractic Clinic opened on Oct. 3rd\n\n\n\nThe Joint Chiropractic in the Annapolis Towne Centre: Grand Opening Weekend - Thurs Oct. 17th\, Fri. Oct. 18th\, and Sat. Oct. 19th - Free Adjustments\, Consultation\, and Exam \n\n\n\nSat.. Oct. 19th - Grand Opening Activities - Free adjustments\, chair massages\, Orange Theory Guest Passes\, Newk's Deli samples\, Smoothie King\, Kid Friendly Activities\, etc.  Chance to WIN 50" TV\, Alexa\, $100 Target Gift Card\, and Giveaways.
X-ALT-DESC;FMTTYPE=text/html:<strong>The Joint Chiropractic Clinic opened on Oct. 3rd</strong><br />\n<br />\nThe Joint Chiropractic in the Annapolis Towne Centre:&nbsp\;<em><strong><u>Grand Opening Weekend</u>&nbsp\;</strong></em><span style="background-color:rgb(255\, 255\, 255)\; color:rgb(51\, 51\, 51)\; font-family:sans-serif\,arial\,verdana\,trebuchet ms\; font-size:13px">- Thurs Oct. 17th\, Fri. Oct. 18th\, and Sat. Oct. 19th - Free Adjustments\, Consultation\, and Exam&nbsp\;</span><br />\n<br />\n<span style="background-color:rgb(255\, 255\, 255)\; color:rgb(51\, 51\, 51)\; font-family:sans-serif\,arial\,verdana\,trebuchet ms\; font-size:13px">Sat.. Oct. 19th - Grand Opening Activities - Free adjustments\, chair massages\, Orange Theory Guest Passes\, Newk&#39\;s Deli samples\, Smoothie King\, Kid Friendly Activities\, etc.&nbsp\;&nbsp\;</span><em><strong>Chance to WIN 50&quot\; TV\, Alexa\, $100 Target Gift Card\, and Giveaways.</strong></em><br />\n&nbsp\;
LOCATION:Annapolis Towne Center - Near Whole Foods\, Next to Newk's and Xfinity 2077 Somerville Road\, Suite 157 Annapolis\, MD 21401
UID:e.2745.1374
SEQUENCE:3
DTSTAMP:20260424T023155Z
URL:https://dev.annearundelchamber.org/events/details/the-joint-annapolis-grand-opening-weekend-1374
END:VEVENT

END:VCALENDAR
