BEGIN:VCALENDAR
VERSION:2.0
PRODID:-//ChamberMaster//Event Calendar 2.0//EN
METHOD:PUBLISH
X-PUBLISHED-TTL:P3D
REFRESH-INTERVAL:P3D
CALSCALE:GREGORIAN
BEGIN:VEVENT
DTSTART;VALUE=DATE:20191003
DTEND;VALUE=DATE:20191006
TRANSP:TRANSPARENT
X-MICROSOFT-CDO-ALLDAYEVENT:TRUE
SUMMARY:The Joint Chiropractic Annapolis Towne Centre - Soft Opening Weekend - 10/3 to 10/5
DESCRIPTION:The Joint Chiropractic Annapolis Towne Centre - Soft Opening Weekend - Free Adjustments\, Consultation\, and Exam
X-ALT-DESC;FMTTYPE=text/html:The Joint Chiropractic Annapolis Towne Centre - Soft Opening Weekend - Free Adjustments\, Consultation\, and Exam
LOCATION:Annapolis Towne Centre 2077 Somerville Road\, Suite 157 Annapolis\, MD 21401
UID:e.2745.1372
SEQUENCE:3
DTSTAMP:20260424T023411Z
URL:https://dev.annearundelchamber.org/events/details/the-joint-chiropractic-annapolis-towne-centre-soft-opening-weekend-10-3-to-10-5-1372
END:VEVENT

END:VCALENDAR
