BEGIN:VCALENDAR
VERSION:2.0
PRODID:-//ChamberMaster//Event Calendar 2.0//EN
METHOD:PUBLISH
X-PUBLISHED-TTL:P3D
REFRESH-INTERVAL:P3D
CALSCALE:GREGORIAN
BEGIN:VEVENT
DTSTART:20230422T210000Z
DTEND:20230423T020000Z
X-MICROSOFT-CDO-ALLDAYEVENT:FALSE
SUMMARY:The Summit School's Backyard Bash
DESCRIPTION:The Summit School's Backyard Bash is right around the corner and we'd love to have your company's participation at this year's event!  \n\n\n\nWith community support\, Summit has educated\, tested and tutored hundreds of children with unique learning profiles in our community. One in ten children experience dyslexia and related learning differences\, and many of these students cannot thrive in traditional school settings.  Many students come to Summit feeling frustrated\, defeated and completely checked out from school. \n\nYour generosity sustains the exceptional quality of The Summit School experience\, including: \n\n\n	\n	Individualized\, multisensory instruction offered in small class sizes \n	\n	\n	Instruction based on the most current and sound scientific evidence\n	\n	\n	Commitment to provide an environment that promotes healthy socio-emotional learning\n	\n	\n	Cutting-edge technology for all grade levels\n	\n\n\nThis year\, our goal is to raise $135\,000 to support our program\, but we can't do it without your help! Your sponsorship will ensure the bright students and incredible teachers in our community have the resources they need to be successful.\n\nYour impact is felt throughout so many young learners who struggle with reading and math\, which are aspects so critical to their future success.  Providing the Summit experience to students enhances their trajectory in life.
X-ALT-DESC;FMTTYPE=text/html:<p><span style="background-color:transparent\; color:rgb(0\, 0\, 0)\; font-family:arial\; font-size:12pt">The Summit School&rsquo\;s Backyard Bash is right around the corner and we&#39\;d love to have your company&rsquo\;s participation at this year&#39\;s event!&nbsp\; </span><br />\n<br />\n<span style="background-color:transparent\; color:rgb(0\, 0\, 0)\; font-family:arial\; font-size:12pt">With community support\, Summit has educated\, tested and tutored hundreds of children with unique learning profiles in our community. </span><strong>One in ten children experience dyslexia and related learning differences\,</strong><span style="background-color:transparent\; color:rgb(0\, 0\, 0)\; font-family:arial\; font-size:12pt"> and many of these students cannot thrive in traditional school settings.&nbsp\; Many students come to Summit feeling frustrated\, defeated and completely checked out from school. </span></p>\n\n<p><span style="background-color:transparent\; color:rgb(0\, 0\, 0)\; font-family:arial\; font-size:12pt">Your generosity sustains the exceptional quality of The Summit School experience\, including:&nbsp\;</span></p>\n\n<ul>\n	<li>\n	<p><span style="background-color:transparent\; font-size:12pt">Individualized\, multisensory instruction offered in small class sizes&nbsp\;</span></p>\n	</li>\n	<li>\n	<p><span style="background-color:transparent\; font-size:12pt">Instruction based on the most current and sound scientific evidence</span></p>\n	</li>\n	<li>\n	<p><span style="background-color:transparent\; font-size:12pt">Commitment to provide an environment that promotes healthy socio-emotional learning</span></p>\n	</li>\n	<li>\n	<p><span style="background-color:transparent\; font-size:12pt">Cutting-edge technology for all grade levels</span></p>\n	</li>\n</ul>\n\n<p><span style="background-color:transparent\; color:rgb(0\, 0\, 0)\; font-family:arial\; font-size:12pt">This year\, our goal is to raise $135\,000 to support our program\, but we can&rsquo\;t do it without your help! Your sponsorship will ensure the bright students and incredible teachers in our community have the resources they need to be successful.</span></p>\n\n<p><span style="background-color:transparent\; color:rgb(0\, 0\, 0)\; font-family:arial\; font-size:12pt">Your impact is felt throughout so many young learners who struggle with reading and math\, which are aspects so critical to their future success.&nbsp\; Providing the Summit experience to students enhances their trajectory in life.&nbsp\; </span></p>\n
LOCATION:The Summit School 664 Central Avenue East Edgewater\, MD 21037
UID:e.2745.4067
SEQUENCE:3
DTSTAMP:20260421T172342Z
URL:https://dev.annearundelchamber.org/events/details/the-summit-school-s-backyard-bash-04-22-2023-4067
END:VEVENT

END:VCALENDAR
