BEGIN:VCALENDAR
VERSION:2.0
PRODID:-//ChamberMaster//Event Calendar 2.0//EN
METHOD:PUBLISH
X-PUBLISHED-TTL:P3D
REFRESH-INTERVAL:P3D
CALSCALE:GREGORIAN
BEGIN:VEVENT
DTSTART:20220423T210000Z
DTEND:20220424T020000Z
X-MICROSOFT-CDO-ALLDAYEVENT:FALSE
SUMMARY:The Summit School's Backyard Bash
DESCRIPTION:This year\, our annual spring fundraiser will be held at The Summit School  right here in our own backyard. Join us and raise a glass as we salute the resiliency & brilliance of our amazing students and faculty.\n\nIt's been a long two years\, and we're ready to invite our Summit community back to campus as we celebrate all we've accomplished together and share our vision for the future!\n\n\n\nThe Summit School is the ONLY school in Anne Arundel County that exclusively serves students with dyslexia and related learning differences. Our mission is to provide the environment and resources every student needs to reach their full learning potential. \n\n\n\nDyslexia affects nearly 10% of the population and is the most commong learning difference. As a non-public special education program and nonprofit organization\, we rely on the generosity of community and business leaders to help ensure we can deliver on our mission for our incredible students.
X-ALT-DESC;FMTTYPE=text/html:<p>This year\, our annual spring fundraiser will be held at The Summit School&hellip\; right here in our own backyard.&nbsp\;Join us and raise a glass as we salute the resiliency &amp\; brilliance of our amazing students and faculty.</p>\n\n<p>It&rsquo\;s been a long two years\, and we&rsquo\;re ready to invite our Summit community back to campus as we celebrate all we&rsquo\;ve accomplished together and share our vision for the future!<br />\n<br />\nThe Summit School is the ONLY school in Anne Arundel County that exclusively serves students with dyslexia and related learning differences. Our mission is to provide the environment and resources every student needs to reach their full learning potential.&nbsp\;<br />\n<br />\nDyslexia affects nearly 10% of the population and is the most commong learning difference. As a non-public special education program and nonprofit organization\, we rely on the generosity of community and business leaders to help ensure we can deliver on our mission for our incredible students.&nbsp\;<br />\n<br />\n&nbsp\;</p>\n\n<div>&nbsp\;</div>\n\n<div>&nbsp\;</div>\n
LOCATION:The Summit School 664 Central Avenue East Edgewater\, MD 21037
UID:e.2745.3917
SEQUENCE:3
DTSTAMP:20260422T090258Z
URL:https://dev.annearundelchamber.org/events/details/the-summit-school-s-backyard-bash-3917
END:VEVENT

END:VCALENDAR
