BEGIN:VCALENDAR
VERSION:2.0
PRODID:-//ChamberMaster//Event Calendar 2.0//EN
METHOD:PUBLISH
X-PUBLISHED-TTL:P3D
REFRESH-INTERVAL:P3D
CALSCALE:GREGORIAN
BEGIN:VEVENT
DTSTART:20210913T213000Z
DTEND:20210914T000000Z
X-MICROSOFT-CDO-ALLDAYEVENT:FALSE
SUMMARY:The Well Armed Woman Meet & Greet
DESCRIPTION:The Well Armed Woman Shooting Chapters is an organization of more than 300 local chapters across the nation focused on introducing women to the world of firearms. Our mission is to Educate\, Equip\, and Empower women. New or experienced\, young or mature\, interested in protection or just for fun come join us! You can attend your first meeting for free prior to joining.
X-ALT-DESC;FMTTYPE=text/html:The Well Armed Woman Shooting Chapters is an organization of more than 300 local chapters across the nation focused on introducing women to the world of firearms. Our mission is to Educate\, Equip\, and Empower women. New or experienced\, young or mature\, interested in protection or just for fun&hellip\;come join us! You can attend your first meeting for free prior to joining.
LOCATION:Cindy's Hot Shots 115 C Holsum Way\, Glen Burnie 21060.
UID:e.2745.3807
SEQUENCE:3
DTSTAMP:20260422T193312Z
URL:https://dev.annearundelchamber.org/events/details/the-well-armed-woman-meet-greet-3807
END:VEVENT

END:VCALENDAR
