BEGIN:VCALENDAR
VERSION:2.0
PRODID:-//ChamberMaster//Event Calendar 2.0//EN
METHOD:PUBLISH
X-PUBLISHED-TTL:P3D
REFRESH-INTERVAL:P3D
CALSCALE:GREGORIAN
BEGIN:VEVENT
DTSTART:20230426T230000Z
DTEND:20230427T000000Z
X-MICROSOFT-CDO-ALLDAYEVENT:FALSE
SUMMARY:Tom Turcich: The World Walk
DESCRIPTION:Join us Wednesday\, April 26 at 7pm at the Busch Annapolis Library for an evening with the tenth person to walk around the world\, Tom Turcich. Tom and his dog\, Savannah\, completed their seven-year journey on May 21\, 2022. From his travels\, Tom grew into a world-class photographer\, learned lessons in growth\, resilience\, problem solving and the oneness of humanity. Tom has distilled the profound lessons from his walk into a beautiful\, humorous and inspiring keynote presentation. This event is a ticketed fundraiser for the Library Foundation.
X-ALT-DESC;FMTTYPE=text/html:Join us Wednesday\, April 26 at 7pm at the Busch Annapolis Library for an evening with the tenth person to walk around the world\, Tom Turcich. Tom and his dog\, Savannah\, completed their seven-year journey on May 21\, 2022. From his travels\, Tom grew into a world-class photographer\, learned lessons in growth\, resilience\, problem solving and the oneness of humanity. Tom has distilled the profound lessons from his walk into a beautiful\, humorous and inspiring keynote presentation. This event is a ticketed fundraiser for the Library Foundation.
LOCATION:Busch Annapolis Library 1410 West St\, Annapolis\, MD
UID:e.2745.4081
SEQUENCE:3
DTSTAMP:20260421T172326Z
URL:https://dev.annearundelchamber.org/events/details/tom-turcich-the-world-walk-4081
END:VEVENT

END:VCALENDAR
