BEGIN:VCALENDAR
VERSION:2.0
PRODID:-//ChamberMaster//Event Calendar 2.0//EN
METHOD:PUBLISH
X-PUBLISHED-TTL:P3D
REFRESH-INTERVAL:P3D
CALSCALE:GREGORIAN
BEGIN:VEVENT
DTSTART:20201006T210000Z
DTEND:20201007T000000Z
X-MICROSOFT-CDO-ALLDAYEVENT:FALSE
SUMMARY:Tuesday Two for -32. Dinner Entrees
DESCRIPTION:Tuesday Two for -32. Dinner tonight from 5pm-8pm- two side salads\, two select entrees and a slice of cake to share. For additional details: https://mainandmarket.com/daily-specials/
X-ALT-DESC;FMTTYPE=text/html:<span style="background-color:rgb(255\, 255\, 255)\; color:rgb(5\, 5\, 5)\; font-family:segoe ui historic\,segoe ui\,helvetica\,arial\,sans-serif\; font-size:15px">Tuesday Two for -32. Dinner tonight from 5pm-8pm- two side salads\, two select entrees and a slice of cake to share. For additional details: </span><span style="background-color:rgb(255\, 255\, 255)\; color:rgb(5\, 5\, 5)\; font-family:segoe ui historic\,segoe ui\,helvetica\,arial\,sans-serif\; font-size:15px"><a class="oajrlxb2 g5ia77u1 qu0x051f esr5mh6w e9989ue4 r7d6kgcz rq0escxv nhd2j8a9 nc684nl6 p7hjln8o kvgmc6g5 cxmmr5t8 oygrvhab hcukyx3x jb3vyjys rz4wbd8a qt6c0cv9 a8nywdso i1ao9s8h esuyzwwr f1sip0of lzcic4wl py34i1dx gpro0wi8" href="https://mainandmarket.com/daily-specials/?fbclid=IwAR2h3TSgZ5maIB68IHPNFyX0WZwToX5DUsCQRav8ToGpoIZD7lNoOVMKS74" rel="nofollow noopener" style="color: var(--blue-link)\; cursor: pointer\; text-decoration: none\; outline: none\; list-style: none\; border-width: 0px\; border-style: initial\; border-color: initial\; padding: 0px\; margin: 0px\; touch-action: manipulation\; background-color: transparent\; text-align: inherit\; display: inline\; -webkit-tap-highlight-color: transparent\; box-sizing: border-box\; font-family: inherit\;" tabindex="0" target="_blank">https://mainandmarket.com/daily-specials/</a></span>
LOCATION:Main & Market Cafe 914 Bay Ridge Rd. Annapolis\, MD 21403
UID:e.2745.2884
SEQUENCE:3
DTSTAMP:20260423T092445Z
URL:https://dev.annearundelchamber.org/events/details/tuesday-two-for-32-dinner-entrees-10-06-2020-2884
END:VEVENT

END:VCALENDAR
