BEGIN:VCALENDAR
VERSION:2.0
PRODID:-//ChamberMaster//Event Calendar 2.0//EN
METHOD:PUBLISH
X-PUBLISHED-TTL:P3D
REFRESH-INTERVAL:P3D
CALSCALE:GREGORIAN
BEGIN:VEVENT
DTSTART:20210424T130000Z
DTEND:20210424T140000Z
X-MICROSOFT-CDO-ALLDAYEVENT:FALSE
SUMMARY:Virtual Open House - The Summit School
DESCRIPTION:JOIN US   from the comfort of your home. You will: Discover how Summit students continued to learn in our Remote Learning environment while remaining engaged and connected to their school community. Understand the importance of testing and learn more about tutoring and other available resources in support of your child and their unique learning profile. Take a virtual tour of our campus and hear from current parents.
X-ALT-DESC;FMTTYPE=text/html:JOIN US &ndash\; from the comfort of your home. You will: Discover how Summit students continued to learn in our Remote Learning environment while remaining engaged and connected to their school community. Understand the importance of testing and learn more about tutoring and other available resources in support of your child and their unique learning profile. Take a virtual tour of our campus and hear from current parents.
LOCATION:Virtual event
UID:e.2745.3521
SEQUENCE:3
DTSTAMP:20260423T012415Z
URL:https://dev.annearundelchamber.org/events/details/virtual-open-house-the-summit-school-3521
END:VEVENT

END:VCALENDAR
