BEGIN:VCALENDAR
VERSION:2.0
PRODID:-//ChamberMaster//Event Calendar 2.0//EN
METHOD:PUBLISH
X-PUBLISHED-TTL:P3D
REFRESH-INTERVAL:P3D
CALSCALE:GREGORIAN
BEGIN:VEVENT
DTSTART:20230416T123000Z
DTEND:20230416T170000Z
X-MICROSOFT-CDO-ALLDAYEVENT:FALSE
SUMMARY:Walk MS: Annapolis
DESCRIPTION:Walk MS  brings together passionate people for a powerful purpose: to end MS forever. Feel the support that can only come from a community whose steps fuel breakthroughs\, solutions\, and a cure.\n\n\n\nWalk MS  is the place to connect with others who understand what it means to be affected by this disease\; it's also where we come together to celebrate the resiliency of the MS community and keep moving toward a cure. \n\nYou'll never be alone on your Walk MS  journey. From friendly Walk MS  staff to a vibrant community\, get connected to the largest gathering in the MS movement. \n\n\n\nWalk MS  routes are 1 mile or 3 miles. All routes are accessible\, and mobility devices are welcome.\n\n \n\nJoin the movement today to show that together\, we are stronger than MS.
X-ALT-DESC;FMTTYPE=text/html:<p><span style="font-size:12px"><span style="font-family:arial\,helvetica\,sans-serif">Walk MS&reg\;&nbsp\;brings together passionate people for a powerful purpose: to end MS forever. Feel the support that can only come from a community whose steps fuel breakthroughs\, solutions\, and a cure.<br />\n<br />\nWalk MS&reg\;&nbsp\;is the place to connect with others who understand what it means to be affected by this disease\; it&rsquo\;s also where we come together to celebrate the resiliency of the MS community and keep moving toward a cure.&nbsp\;</span></span></p>\n\n<p><span style="font-size:12px"><span style="font-family:arial\,helvetica\,sans-serif">You&rsquo\;ll never be alone on your Walk MS&reg\;&nbsp\;journey. From friendly Walk MS&reg\;&nbsp\;staff to a vibrant community\, get connected to the largest gathering in the MS movement.&nbsp\;<br />\n<br />\n<span style="color:rgb(0\, 0\, 0)">Walk MS</span><span style="color:rgb(0\, 0\, 0)">&reg\;</span><span style="color:rgb(0\, 0\, 0)">&nbsp\;routes are 1</span><em>&nbsp\;</em><span style="color:rgb(0\, 0\, 0)">mile or 3 miles. All routes are accessible\, and mobility devices are welcome.</span></span></span></p>\n\n<div>&nbsp\;</div>\n\n<p><span style="font-size:12px"><span style="font-family:arial\,helvetica\,sans-serif">Join the movement today to show that together\, we are stronger than MS.</span></span></p>\n
LOCATION:Navy Marine Corps Stadium Parking Lot 550 Taylor Avenue Annapolis\, MD 21401
UID:e.2745.4060
SEQUENCE:3
DTSTAMP:20260421T172030Z
URL:https://dev.annearundelchamber.org/events/details/walk-ms-annapolis-4060
END:VEVENT

END:VCALENDAR
