BEGIN:VCALENDAR
VERSION:2.0
PRODID:-//ChamberMaster//Event Calendar 2.0//EN
METHOD:PUBLISH
X-PUBLISHED-TTL:P3D
REFRESH-INTERVAL:P3D
CALSCALE:GREGORIAN
BEGIN:VEVENT
DTSTART:20220305T150000Z
DTEND:20220305T170000Z
X-MICROSOFT-CDO-ALLDAYEVENT:FALSE
SUMMARY:Women of Achievement
DESCRIPTION:Enjoy a stroll in Annapolis' historic district led by a period-attired guide. Visit sites connected to the woman appointed as Maryland's official printer in the 18th century\; the woman who responded to General Washington's plea to save Continental soldiers in the Revolutionary War\; the runaway female slave called "Moses" who led her people to freedom\; and many "firsts" in the government and at the United States Naval Academy. Tour content best suited for children 9 and up.
X-ALT-DESC;FMTTYPE=text/html:<br />\n<span style="background-color:rgb(255\, 255\, 255)\; color:rgb(2\, 15\, 20)\; font-family:roboto\,sans-serif\; font-size:18px">Enjoy a stroll in Annapolis&rsquo\; historic district led by a period-attired guide. Visit sites connected to the woman appointed as Maryland&rsquo\;s official printer in the 18th century\; the woman who responded to General Washington&rsquo\;s plea to save Continental soldiers in the Revolutionary War\; the runaway female slave called &quot\;Moses&quot\; who led her people to freedom\; and many &ldquo\;firsts&rdquo\; in the government and at the United States Naval Academy. Tour content best suited for children 9 and up.</span>
LOCATION:Lawyers Mall Bladen Street & College Ave\, Annapolis\, MD 21401
UID:e.2745.3903
SEQUENCE:3
DTSTAMP:20260422T103823Z
URL:https://dev.annearundelchamber.org/events/details/women-of-achievement-3903
END:VEVENT

END:VCALENDAR
