BEGIN:VCALENDAR
VERSION:2.0
PRODID:-//ChamberMaster//Event Calendar 2.0//EN
METHOD:PUBLISH
X-PUBLISHED-TTL:P3D
REFRESH-INTERVAL:P3D
CALSCALE:GREGORIAN
BEGIN:VEVENT
DTSTART:20221027T203000Z
DTEND:20221027T220000Z
X-MICROSOFT-CDO-ALLDAYEVENT:FALSE
SUMMARY:Women's Financial Education Seminar
DESCRIPTION:Women's Financial Education Seminar focusing on The 5 Money Questions for Women and Social Security
X-ALT-DESC;FMTTYPE=text/html:Women&#39\;s Financial Education Seminar focusing on The 5 Money Questions for Women and Social Security
LOCATION:Chesapeake Yacht Club 4943 Hine Drive Shady Side\, MD 20764-9636
UID:e.2745.4001
SEQUENCE:3
DTSTAMP:20260422T012607Z
URL:https://dev.annearundelchamber.org/events/details/women-s-financial-education-seminar-4001
END:VEVENT

END:VCALENDAR
