BEGIN:VCALENDAR
VERSION:2.0
PRODID:-//ChamberMaster//Event Calendar 2.0//EN
METHOD:PUBLISH
X-PUBLISHED-TTL:P3D
REFRESH-INTERVAL:P3D
CALSCALE:GREGORIAN
BEGIN:VEVENT
DTSTART:20200311T220000Z
DTEND:20200312T010000Z
X-MICROSOFT-CDO-ALLDAYEVENT:FALSE
SUMMARY:Words Matter: A Free Screening of the Film The R-Word & Panel Discussion
DESCRIPTION:The R-Word is the critically acclaimed first film by Amanda Lukoff. The documentary is based on Amanda's own experiences advocating for her sister Gabrielle\, especially whenever she heard the word retard(ed). With The R-Word\, she unravels the history and lasting effects of this word through the lens of the sibling experience\, captivating animation sequences\, and self-advocates speaking truth-to-power - ultimately making the case for why the conversation surrounding people with intellectual and developmental disabilities needs to change. See the trailer here: https://www.therwordfilm.com After the screening\, a panel discussion will be held featuring the following guest speakers: Amanda Lukoff\, Filmmaker\, The R-Word Soeren Palumbo\, Spread the Word to End the Word Campaign\, Special Olympics Rosa and Nina Marcellino\, Rosa's Law
X-ALT-DESC;FMTTYPE=text/html:The R-Word is the critically acclaimed first film by Amanda Lukoff. The documentary is based on Amanda&#39\;s own experiences advocating for her sister Gabrielle\, especially whenever she heard the word retard(ed). With The R-Word\, she unravels the history and lasting effects of this word through the lens of the sibling experience\, captivating animation sequences\, and self-advocates speaking truth-to-power - ultimately making the case for why the conversation surrounding people with intellectual and developmental disabilities needs to change. See the trailer here: https://www.therwordfilm.com After the screening\, a panel discussion will be held featuring the following guest speakers: Amanda Lukoff\, Filmmaker\, The R-Word Soeren Palumbo\, Spread the Word to End the Word Campaign\, Special Olympics Rosa and Nina Marcellino\, Rosa&#39\;s Law
LOCATION:Anne Arundel Community College 101 College Parkway Pascal Center for the Performing Arts\, Robert E. Kaufmann Theater Arnold\, MD 21012
UID:e.2745.2658
SEQUENCE:3
DTSTAMP:20260423T182425Z
URL:https://dev.annearundelchamber.org/events/details/words-matter-a-free-screening-of-the-film-the-r-word-panel-discussion-2658
END:VEVENT

END:VCALENDAR
