BEGIN:VCALENDAR
VERSION:2.0
PRODID:-//ChamberMaster//Event Calendar 2.0//EN
METHOD:PUBLISH
X-PUBLISHED-TTL:P3D
REFRESH-INTERVAL:P3D
CALSCALE:GREGORIAN
BEGIN:VEVENT
DTSTART:20220120T230000Z
DTEND:20220121T000000Z
X-MICROSOFT-CDO-ALLDAYEVENT:FALSE
SUMMARY:Wye River Upper School Virtual Open House
DESCRIPTION:Wye River Upper School will hold a virtual open house on Thursday\, January 20\, 2022 from 6:00-7:00 PM. Prospective families will have the opportunity to see the depth of the academic\, social and emotional impact Wye River Upper School has on high school students. Families will also be able to meet and speak with faculty and staff\, parents and students. Registration is required: https://wyeriverupperschool.myschoolapp.com/podium/default.aspx?t=36644&rid=41187&pe=1&wapp=1
X-ALT-DESC;FMTTYPE=text/html:Wye River Upper School will hold a virtual open house on Thursday\, January 20\, 2022 from 6:00-7:00 PM. Prospective families will have the opportunity to see the depth of the academic\, social and emotional impact Wye River Upper School has on high school students. Families will also be able to meet and speak with faculty and staff\, parents and students. Registration is required: https://wyeriverupperschool.myschoolapp.com/podium/default.aspx?t=36644&amp\;rid=41187&amp\;pe=1&amp\;wapp=1
LOCATION:Virtual
UID:e.2745.3858
SEQUENCE:3
DTSTAMP:20260422T143957Z
URL:https://dev.annearundelchamber.org/events/details/wye-river-upper-school-virtual-open-house-01-20-2022-3858
END:VEVENT

END:VCALENDAR
