BEGIN:VCALENDAR
VERSION:2.0
PRODID:-//ChamberMaster//Event Calendar 2.0//EN
METHOD:PUBLISH
X-PUBLISHED-TTL:P3D
REFRESH-INTERVAL:P3D
CALSCALE:GREGORIAN
BEGIN:VEVENT
DTSTART:20210425T180000Z
DTEND:20210425T190000Z
X-MICROSOFT-CDO-ALLDAYEVENT:FALSE
SUMMARY:Wye River Upper School Virtual Open House
DESCRIPTION:Join us for our virtual open house to experience how we change the lives of students with learning differences by providing them with a challenging educational experience that builds their skills and confidence\, and prepares them for the future they desire!\n\n\n\nRegistration is required for this event. Please register here: https://wyeriverupperschool.myschoolapp.com/podium/default.aspx?t=36644&rid=37571&wapp=1.
X-ALT-DESC;FMTTYPE=text/html:Join us for our virtual open house to experience how we change the lives of students with learning differences by providing them with a challenging educational experience that builds their skills and confidence\, and prepares them for the future they desire!<br />\n<br />\nRegistration is required for this event. Please register here: https://wyeriverupperschool.myschoolapp.com/podium/default.aspx?t=36644&amp\;rid=37571&amp\;wapp=1.
LOCATION:Virtual Open House
UID:e.2745.3520
SEQUENCE:3
DTSTAMP:20260423T012536Z
URL:https://dev.annearundelchamber.org/events/details/wye-river-upper-school-virtual-open-house-3520
END:VEVENT

END:VCALENDAR
